BEGIN:VCALENDAR
VERSION:2.0
PRODID:-//Observatori ACRA - ECPv6.13.2.1//NONSGML v1.0//EN
CALSCALE:GREGORIAN
METHOD:PUBLISH
X-WR-CALNAME:Observatori ACRA
X-ORIGINAL-URL:https://www.observatoriacra.cat
X-WR-CALDESC:Esdeveniments per Observatori ACRA
REFRESH-INTERVAL;VALUE=DURATION:PT1H
X-Robots-Tag:noindex
X-PUBLISHED-TTL:PT1H
BEGIN:VTIMEZONE
TZID:Europe/Helsinki
BEGIN:DAYLIGHT
TZOFFSETFROM:+0200
TZOFFSETTO:+0300
TZNAME:EEST
DTSTART:20190331T010000
END:DAYLIGHT
BEGIN:STANDARD
TZOFFSETFROM:+0300
TZOFFSETTO:+0200
TZNAME:EET
DTSTART:20191027T010000
END:STANDARD
END:VTIMEZONE
BEGIN:VEVENT
DTSTART;TZID=Europe/Helsinki:20190925T103000
DTEND;TZID=Europe/Helsinki:20190927T173000
DTSTAMP:20260421T115105
CREATED:20190912T125952Z
LAST-MODIFIED:20190912T133428Z
UID:568-1569407400-1569605400@www.observatoriacra.cat
SUMMARY:15th EuGMS International Congress of the European Geriatric Medicine Society
DESCRIPTION:XV Congrés de la European Union Geriatric Medicine Society – EuGMS \nPrograma \n 
URL:https://www.observatoriacra.cat/activitats/patronals-del-sector-copy-copy-copy-6-copy-2/
LOCATION:Palau de Congressos\, Marii Konopnickiej 17\, Cracòvia\, Polònia
ATTACH;FMTTYPE=image/jpeg:https://www.observatoriacra.cat/wp-content/uploads/2019/09/BANNER600x3002019.jpg
END:VEVENT
BEGIN:VEVENT
DTSTART;VALUE=DATE:20190921
DTEND;VALUE=DATE:20190922
DTSTAMP:20260421T115105
CREATED:20190919T112426Z
LAST-MODIFIED:20190919T113221Z
UID:637-1569024000-1569110399@www.observatoriacra.cat
SUMMARY:Jornadas de puertas abiertas - Grupo Orpea
DESCRIPTION:Jornadas de puertas abiertas – Grupo Orpea \nPrograma \n 
URL:https://www.observatoriacra.cat/activitats/patronals-del-sector-copy-copy-copy-6-copy-7/
LOCATION:Matera
ATTACH;FMTTYPE=image/jpeg:https://www.observatoriacra.cat/wp-content/uploads/2019/09/6956846-10637479.jpg
END:VEVENT
BEGIN:VEVENT
DTSTART;TZID=Europe/Helsinki:20190917T073000
DTEND;TZID=Europe/Helsinki:20190919T161500
DTSTAMP:20260421T115105
CREATED:20190904T084330Z
LAST-MODIFIED:20190906T111827Z
UID:452-1568705400-1568909700@www.observatoriacra.cat
SUMMARY:Biennial Global Ageing Conference
DESCRIPTION:This is Long Term Care 2019. Transforming aging together \nWeb del congrés \n 
URL:https://www.observatoriacra.cat/activitats/patronals-del-sector-copy-copy-copy-2/
LOCATION:Beanfield Center\, 105 Princes' Blvd\, Toronto\, Ontario\, Canadà
ATTACH;FMTTYPE=image/jpeg:https://www.observatoriacra.cat/wp-content/uploads/2019/09/783d6d6_w1272_finaltiltc2019banner.jpg
END:VEVENT
BEGIN:VEVENT
DTSTART;VALUE=DATE:20190507
DTEND;VALUE=DATE:20190508
DTSTAMP:20260421T115105
CREATED:20190424T090813Z
LAST-MODIFIED:20190424T090813Z
UID:115-1557187200-1557273599@www.observatoriacra.cat
SUMMARY:Patronals del sector
DESCRIPTION:Reunió tema inspeccions
URL:https://www.observatoriacra.cat/activitats/patronals-del-sector/
LOCATION:Matera
END:VEVENT
BEGIN:VEVENT
DTSTART;VALUE=DATE:20190507
DTEND;VALUE=DATE:20190508
DTSTAMP:20260421T115105
CREATED:20190424T090504Z
LAST-MODIFIED:20190424T090555Z
UID:108-1557187200-1557273599@www.observatoriacra.cat
SUMMARY:Parlament de Catalunya
DESCRIPTION:Moció del PSC sobre la situació de la gent gran a Catalunya
URL:https://www.observatoriacra.cat/activitats/parlament-de-catalunya-2/
LOCATION:Parlament de Catalunya\, Parc de la Ciutadella\, s/n\, Barcelona\, 08003
END:VEVENT
BEGIN:VEVENT
DTSTART;VALUE=DATE:20190503
DTEND;VALUE=DATE:20190504
DTSTAMP:20260421T115105
CREATED:20190424T090639Z
LAST-MODIFIED:20190424T090639Z
UID:110-1556841600-1556927999@www.observatoriacra.cat
SUMMARY:Formació
DESCRIPTION:Tastet de Formació i presentació del Catàleg 2019
URL:https://www.observatoriacra.cat/activitats/formacio/
LOCATION:Matera
END:VEVENT
BEGIN:VEVENT
DTSTART;VALUE=DATE:20190503
DTEND;VALUE=DATE:20190504
DTSTAMP:20260421T115105
CREATED:20190424T090438Z
LAST-MODIFIED:20190424T090438Z
UID:105-1556841600-1556927999@www.observatoriacra.cat
SUMMARY:Grup de treball intern centres petits
DESCRIPTION:Reunió de treball
URL:https://www.observatoriacra.cat/activitats/grup-de-treball-intern-centres-petits/
LOCATION:Matera
END:VEVENT
BEGIN:VEVENT
DTSTART;VALUE=DATE:20190502
DTEND;VALUE=DATE:20190503
DTSTAMP:20260421T115105
CREATED:20190424T090344Z
LAST-MODIFIED:20190424T090344Z
UID:102-1556755200-1556841599@www.observatoriacra.cat
SUMMARY:Parlament de Catalunya
DESCRIPTION:CompareixençaProjecte de llei de contractes de serveis a les persones
URL:https://www.observatoriacra.cat/activitats/parlament-de-catalunya/
LOCATION:Parlament de Catalunya\, Parc de la Ciutadella\, s/n\, Barcelona\, 08003
END:VEVENT
BEGIN:VEVENT
DTSTART;VALUE=DATE:20190430
DTEND;VALUE=DATE:20190501
DTSTAMP:20260421T115105
CREATED:20190424T090717Z
LAST-MODIFIED:20190424T090717Z
UID:112-1556582400-1556668799@www.observatoriacra.cat
SUMMARY:Manifest Sector d’Atenció a la Gent Gran
DESCRIPTION:Reunió amb les patronals signants
URL:https://www.observatoriacra.cat/activitats/manifest-sector-datencio-a-la-gent-gran/
LOCATION:Matera
END:VEVENT
END:VCALENDAR